BEGIN:VCALENDAR
VERSION:2.0
PRODID:-//Yarnfield and Cold Meece Parish Council//Meeting Calendar//EN
CALSCALE:GREGORIAN
METHOD:PUBLISH
BEGIN:VEVENT
UID:72005-20260713@yarnfieldandcoldmeece-pc.gov.uk
DTSTAMP:20260420T082040Z
DTSTART;VALUE=DATE:20260713
DTEND;VALUE=DATE:20260714
SUMMARY:Parish Council Meeting &#8211\\; 13 July\\, 2026
DESCRIPTION:Parish Council Meeting\nView details: https://yarnfieldandcoldmeece-pc.gov.uk/meetings/parish-council-meeting-13-july-2026/
URL:https://yarnfieldandcoldmeece-pc.gov.uk/meetings/parish-council-meeting-13-july-2026/
END:VEVENT
END:VCALENDAR
