BEGIN:VCALENDAR
VERSION:2.0
PRODID:-//Yarnfield and Cold Meece Parish Council//Meeting Calendar//EN
CALSCALE:GREGORIAN
METHOD:PUBLISH
BEGIN:VEVENT
UID:70503-20240422@yarnfieldandcoldmeece-pc.gov.uk
DTSTAMP:20260420T082356Z
DTSTART;VALUE=DATE:20240422
DTEND;VALUE=DATE:20240423
SUMMARY:Parish Council Meeting &#8211\\; 22 April 2024
DESCRIPTION:Parish Council Meeting\nView details: https://yarnfieldandcoldmeece-pc.gov.uk/meetings/full-council-meeting-22-april-2024/
URL:https://yarnfieldandcoldmeece-pc.gov.uk/meetings/full-council-meeting-22-april-2024/
END:VEVENT
END:VCALENDAR
